BEGIN:VCALENDAR
VERSION:2.0
PRODID:-//Pitter Pat Productions - ECPv6.0.12//NONSGML v1.0//EN
CALSCALE:GREGORIAN
METHOD:PUBLISH
X-WR-CALNAME:Pitter Pat Productions
X-ORIGINAL-URL:https://www.pitterpatproductions.org.au
X-WR-CALDESC:Events for Pitter Pat Productions
REFRESH-INTERVAL;VALUE=DURATION:PT1H
X-Robots-Tag:noindex
X-PUBLISHED-TTL:PT1H
BEGIN:VTIMEZONE
TZID:UTC
BEGIN:STANDARD
TZOFFSETFROM:+0000
TZOFFSETTO:+0000
TZNAME:UTC
DTSTART:20210101T000000
END:STANDARD
TZID:Asia/Shanghai
BEGIN:STANDARD
TZOFFSETFROM:+0800
TZOFFSETTO:+0800
TZNAME:CST
DTSTART:20220101T000000
END:STANDARD
END:VTIMEZONE
BEGIN:VEVENT
DTSTART;TZID=UTC:20210730T180000
DTEND;TZID=UTC:20210730T193000
DTSTAMP:20260425T112826
CREATED:20210727T111247Z
LAST-MODIFIED:20210727T111251Z
UID:17459-1627668000-1627673400@www.pitterpatproductions.org.au
SUMMARY:Performing Arts Workshops: Creative Jam
DESCRIPTION:Improv Students  participating in a Creative Collective Workshop\n\n\n\n\nBuy Ticket\n\n\n\nPerforming Arts Workshops right here in Karratha\nBuild confidence and skills in performing arts with Creative Jam! \nAre you: \n\nA current or aspiring performing artist?\nNew to town\, looking to meet new people or searching for a new hobby?\nLooking to learn some new skills\, try something new or just have some fun? \nAged 16 or over?\n\nThen come join in with Creative Jam! \nWhat is Creative Jam?\nPart performance class\, part social club we are a group of fun and curious Karratha creatives who get together weekly to learn and build skills in performing arts. \nThe goal of Creative Jam is to foster creativity and a community feel towards the performing arts for adults who want to learn (or hone) their performance skills. Therefore it is an ideal way to meet like minded people\, expand your horizons and above all have fun!  \nWhen Is It?\nWe meet every Friday during school term (exceptions advertised) from 6.00 pm to 7.30 pm at the Red Earth Arts Precinct.  \nCost is $10 at the door or online via redearthartsprecinct.com.au \n\n\n\nBuy Ticket\n\n\n\n\nWhat Will I Learn?\n\n\n\nThe group is led by artists and professionals from Pitter Pat Productions\, the IF foundation or other local groups who guide the group to explore and learn skills in a variety of disciplines\, for example: \n\n\n\nActing and ImprovWritingMusic and SongDanceAnd more!\n\n\n\n \n\n\n\nDo I Need Experience?\n\n\n\nNot at all\, this group is for anyone who wants to build their confidence\, expand creativity and have fun in a safe\, welcoming environment.  \n\n\n\nFirstly The group uses a ‘drop in’ format\, meaning you can come to as many or few sessions as you like\, Secondly we always have a mix of participants with varying skills and lastly we tailor each session so everyone can both learn something new and continue working on existing skills.  \n\n\n\n\n\n\n\n\n\n\n\nAbout the Creative Collective\n\n\n\nThe Creative Collective is A Pitter Pat Productions & IF Foundations  Joint Venture. \n\n\n\nWe aim to build community interest and skills in performance so facilitate accessible\, friendly workshops and masterclasses for City of Karratha. We also offer performance opportunities for interested participants (non-compulsory of course!) from time to time and encourage collaboration and sharing amongt the local Performing Arts community. \n\n\n\nDo you have skills or experience in performing arts? We invite local artists to share their skills through masterclasses\, workshops and projects\, get in touch to learn more by contacting info@pitterpatproductions.org.au \n\n\n\nLearn More…
URL:https://www.pitterpatproductions.org.au/events/performing-arts-workshops-creative-jam-8/
LOCATION:Red Earth Arts Precinct\, 27 Welcome Road\, Karratha\, WA\, 6714\, Australia
CATEGORIES:Creative Collective,Workshop
ATTACH;FMTTYPE=image/jpeg:/wp-content/uploads/2020/08/IMG_5398-1-scaled-e1596760794622.jpg
ORGANIZER;CN="Pitter%20Pat%20Productions":MAILTO:info@pitterpatproductions.org.au
END:VEVENT
BEGIN:VEVENT
DTSTART;TZID=UTC:20210731T103000
DTEND;TZID=UTC:20210731T173000
DTSTAMP:20260425T112826
CREATED:20210727T110005Z
LAST-MODIFIED:20210727T110008Z
UID:17448-1627727400-1627752600@www.pitterpatproductions.org.au
SUMMARY:FeNaCLNG Shows
DESCRIPTION:Pitter Pat Productions is showing two short plays at this years FeNaCLNG Festival! \n\n\n\n\n\n\n\nHouse of Dolls\n\n\n\nShowing on the main stage \n\n\n\n12.30pm July 31 & August 1. \n\n\n\n\n\n\n\nThe Owl & The Pussy Cat\n\n\n\nShowing in the Woodside Children’s Tent: \n\n\n\nSaturday July 31st: 11.15am \, 2.15am and 5.00pm\, \n\n\n\nSunday August 1st: 10.45am \, 2.15am and 5.00pm\,
URL:https://www.pitterpatproductions.org.au/events/fenaclng-shows/
LOCATION:WA
END:VEVENT
BEGIN:VEVENT
DTSTART;TZID=UTC:20210801T103000
DTEND;TZID=UTC:20210801T173000
DTSTAMP:20260425T112826
CREATED:20210727T110137Z
LAST-MODIFIED:20210727T110139Z
UID:17452-1627813800-1627839000@www.pitterpatproductions.org.au
SUMMARY:FeNaCLNG Shows
DESCRIPTION:Pitter Pat Productions is showing two short plays at this years FeNaCLNG Festival! \n\n\n\n\n\n\n\nHouse of Dolls\n\n\n\nShowing on the main stage \n\n\n\n12.30pm July 31 & August 1. \n\n\n\n\n\n\n\nThe Owl & The Pussy Cat\n\n\n\nShowing in the Woodside Children’s Tent: \n\n\n\nSaturday July 31st: 11.15am \, 2.15am and 5.00pm\, \n\n\n\nSunday August 1st: 10.45am \, 2.15am and 5.00pm\,
URL:https://www.pitterpatproductions.org.au/events/fenaclng-shows-2/
LOCATION:WA
END:VEVENT
BEGIN:VEVENT
DTSTART;TZID=Asia/Shanghai:20220910T190000
DTEND;TZID=Asia/Shanghai:20220910T233000
DTSTAMP:20260425T112826
CREATED:20220818T023144Z
LAST-MODIFIED:20220818T032049Z
UID:17483-1662836400-1662852600@www.pitterpatproductions.org.au
SUMMARY:Cracking Up Dampier
DESCRIPTION:Comedy Night
URL:https://www.pitterpatproductions.org.au/events/cracking-up-dampier/
LOCATION:Dampier Community Hall\, L373 High Street\, Dampier\, Western Australia\, 6713\, Australia
END:VEVENT
BEGIN:VEVENT
DTSTART;TZID=Asia/Shanghai:20230310T190000
DTEND;TZID=Asia/Shanghai:20230310T223000
DTSTAMP:20260425T112826
CREATED:20230216T092726Z
LAST-MODIFIED:20230217T000257Z
UID:17507-1678474800-1678487400@www.pitterpatproductions.org.au
SUMMARY:Comedy in the COK
DESCRIPTION:Friday March 10 \n\n\n\n Karratha Country Club \n\n\n\n\n\n\n\nComedy Night
URL:https://www.pitterpatproductions.org.au/events/comedy-in-the-cok/
LOCATION:Karratha Country Club\, Searipple Road\, Karratha\, 6714\, Australia
END:VEVENT
BEGIN:VEVENT
DTSTART;TZID=Asia/Shanghai:20230311T190000
DTEND;TZID=Asia/Shanghai:20230311T223000
DTSTAMP:20260425T112826
CREATED:20230216T091834Z
LAST-MODIFIED:20230217T000429Z
UID:17510-1678561200-1678573800@www.pitterpatproductions.org.au
SUMMARY:Comedy in the COK
DESCRIPTION:Saturday March 11 \n\n\n\n Dampier Community Hall \n\n\n\n\n\n\n\nComedy Night \n\n\n\n\n\n\n\n\n\n\n\n \n\n\n\n\n\n\nBuy Tickets on Eventbrite\n\nBuy Tickets
URL:https://www.pitterpatproductions.org.au/events/comedy-in-the-cok-dampier/
LOCATION:Dampier Community Hall\, L373 High Street\, Dampier\, Western Australia\, 6713\, Australia
END:VEVENT
BEGIN:VEVENT
DTSTART;TZID=UTC:20230422T083000
DTEND;TZID=UTC:20230422T090000
DTSTAMP:20260425T112826
CREATED:20230320T041518Z
LAST-MODIFIED:20230326T082940Z
UID:17589-1682152200-1682154000@www.pitterpatproductions.org.au
SUMMARY:Rachael Beck
DESCRIPTION:This Girl \n\n\n\n\n\n\n\n \n\n\n\n\n\n \n\n\n\n\nFor more information and to buy your tickets \n\n\n\nhttps://www.pitterpatproductions.org.au/rachael-beck-karratha/ \n\n\n\n\n\n\n\n\n\n\n\n\n\n\n\n\nAustralia’s very own star of stage and screen Rachael Beck is coming to perform for us in her acclaimed One Woman Show\, This Girl. \n\n\n\nRachael has played Belle in Beauty and the Beast opposite Hugh Jackman\, Fantine in the Sydney and Melbourne production of “Les Misérables”\, Kathy opposite Todd McKenny in Singing in the Rain\, and Truly Scrumptious in Chitty Chitty Bang Bang to name a few. She has worked with Sydney Theatre Company and Qld Theatre Company numerous times and has had a long career on Tv . \n\n\n\nNow Rachel brings her acclaimed solo show for the first time to Dampier\, reliving her greatest roles and sharing her warmth and humor through stories from a life spent on the stage. \n\n\n\nProudly Brought to you by Pitter Pat Productions \n\n\n\nDoors Open 6pm \n\n\n\n \n\n\n\nhttps://fb.me/e/2FlyqceH6
URL:https://www.pitterpatproductions.org.au/events/rachael-beck/
LOCATION:Dampier Community Hall\, L373 High Street\, Dampier\, Western Australia\, 6713\, Australia
ORGANIZER;CN="Pitter%20Pat%20Productions":MAILTO:info@pitterpatproductions.org.au
END:VEVENT
BEGIN:VEVENT
DTSTART;TZID=UTC:20230423T000000
DTEND;TZID=UTC:20230423T235959
DTSTAMP:20260425T112826
CREATED:20230320T042936Z
LAST-MODIFIED:20230320T043155Z
UID:17599-1682208000-1682294399@www.pitterpatproductions.org.au
SUMMARY:Rachael Beck
DESCRIPTION:Workshops \n\n\n\nVarious times available to suit different age groups \n\n\n\n\n\nRachael is a multi-faceted actress\, singer and coach with over 27 years’ experience across local and international stage\, screen\, schools and workplaces.She is also a proud and passionate performing arts educator.Capitalising on skills learnt at a very young age on stage and in front of the camera\, she has branched out into coaching and mentoring individuals\, businesses and schools\, strengthening creative thinking and team building.Rachael has curated a new series of workshops to inspire\, guide and teach the next generation of Australian performing artists.These courses have been designed to cater for students ranging in ages from 8 years to adults.Get your tickets to this once off event before they sell out \n\n\n\n\n\n\n\nGet your tickets here \n\n\n\nhttps://www.pitterpatproductions.org.au/events/rachael-beck/
URL:https://www.pitterpatproductions.org.au/events/rachael-beck-2/
LOCATION:Dampier Community Hall\, L373 High Street\, Dampier\, Western Australia\, 6713\, Australia
ORGANIZER;CN="Pitter%20Pat%20Productions":MAILTO:info@pitterpatproductions.org.au
END:VEVENT
BEGIN:VEVENT
DTSTART;TZID=UTC:20230507T183000
DTEND;TZID=UTC:20230507T200000
DTSTAMP:20260425T112826
CREATED:20230508T072325Z
LAST-MODIFIED:20230508T072332Z
UID:17622-1683484200-1683489600@www.pitterpatproductions.org.au
SUMMARY:Baddies on Broadway - REAF 2023
DESCRIPTION:Baddies on Broadway Cast\n\n\n\n\nBuy Ticket\n\n\n\nBaddies on Broadway – The Baddies Are Back\nA musical cabaret celebrating some of Broadway’s most devious characters.\nJoin the Creative Collective as we bring back a slice of big city piano bar life to Karratha. Come soak in the atmosphere for a night out as local artists sing their souls off.\nBaddies on Broadway is a musical cabaret extravaganza exploring the strong\, powerful\, slightly naughty\, and misunderstood characters from the Broadway Cannon. No ingenues here! Featuring an abundance of local talent\, this decadent musical delight will give audiences a taste of the decadent\, ‘darker’ side of Broadway. Featuring songs from characters such as Velma Kelly of Chicago\, Lola of Damn Yankees and Sally Bowles of Cabaret. Encouraging audiences to dress up\, enjoy a tipple and be tickled by the tunes.\nAt this classy concert you will also see a devilish dance performance by Lea Cullen Performing Arts Dancers. The event will be is a little naughty and a lot of fun\, an experience rare to Karratha and not to be missed. \nSee less\n\n  \n\n\n \n\n\n\n\n\n\n\nAbout the Creative Collective\n\n\n\nThe Creative Collective is A Pitter Pat Productions & IF Foundations  Joint Venture. \n\n\n\nWe aim to build community interest and skills in performance so facilitate accessible\, friendly workshops and masterclasses for City of Karratha. We also offer performance opportunities for interested participants (non-compulsory of course!) from time to time and encourage collaboration and sharing amongt the local Performing Arts community. \n\n\n\nDo you have skills or experience in performing arts? We invite local artists to share their skills through masterclasses\, workshops and projects\, get in touch to learn more by contacting info@pitterpatproductions.org.au \n\n\n\nLearn More…
URL:https://www.pitterpatproductions.org.au/events/baddies-on-broadway-reaf-2023/
LOCATION:Red Earth Arts Precinct\, 27 Welcome Road\, Karratha\, WA\, 6714\, Australia
CATEGORIES:Creative Collective,Workshop
ATTACH;FMTTYPE=image/jpeg:/wp-content/uploads/2020/08/IMG_5398-1-scaled-e1596760794622.jpg
ORGANIZER;CN="Pitter%20Pat%20Productions":MAILTO:info@pitterpatproductions.org.au
END:VEVENT
END:VCALENDAR