BEGIN:VCALENDAR
VERSION:2.0
PRODID:-//Pitter Pat Productions - ECPv6.0.12//NONSGML v1.0//EN
CALSCALE:GREGORIAN
METHOD:PUBLISH
X-WR-CALNAME:Pitter Pat Productions
X-ORIGINAL-URL:https://www.pitterpatproductions.org.au
X-WR-CALDESC:Events for Pitter Pat Productions
REFRESH-INTERVAL;VALUE=DURATION:PT1H
X-Robots-Tag:noindex
X-PUBLISHED-TTL:PT1H
BEGIN:VTIMEZONE
TZID:UTC
BEGIN:STANDARD
TZOFFSETFROM:+0000
TZOFFSETTO:+0000
TZNAME:UTC
DTSTART:20210101T000000
END:STANDARD
END:VTIMEZONE
BEGIN:VEVENT
DTSTART;TZID=UTC:20210409T170000
DTEND;TZID=UTC:20210409T200000
DTSTAMP:20260425T140953
CREATED:20201225T015046Z
LAST-MODIFIED:20210207T092526Z
UID:17368-1617987600-1617998400@www.pitterpatproductions.org.au
SUMMARY:Acting for Camera - Junior Workshop
DESCRIPTION:Buy Ticket\n\n\n\nActing for Camera\nThe Creative Collective Presents: “Acting For Camera – Junior Workshop” Led by Casting Director and Acting Coach Annie Murtagh-Monks.\n \nThis 3 hour fun workshop is for students aged 12-16 yrs in Karratha and will be run on Friday April 9 from 5-8pm.\nThis workshop will give students a taste of working in front of the camera\, using examples from popular films and practical exercises you can discover your “inner film star”. Participants will be taught by experienced acting coach & casting director Annie Murtagh-Monks (The Heights 1&2; Drift; The Circuit: Rabbit Proof Fence).\n \nPlaces are strictly limited..Book your ticket now!\n \nTutor Annie Murtagh-Monks (www.anniemmcasting.com) has been a casting director and acting coach for more than 25 years.\nAnnie has cast numerous television and film productions in WA. Annie has also and been acting coach on more than 13 of these productions.\nShe has recently been casting director and acting coach on ABC TV’s TV series “The Heights”. In addition\, Annie’s has lectured screen acting at WAAPA since 1996.\n \nAnnie has ‘discovered’ many successful actors and helped cast them in their first adult screen role including Heath Ledger\, Isla Fisher\, Jai Courtney and Emma Booth. She has also coached many successful Australian actors.\nTo read their comments on Annie’s teaching go to www.perthactorscentre.com.au/testimonials.\n \nFeedback from Previous Workshops\n“Annie Murtagh-Monks is absolutely one of the most talented and inspiring screen drama teachers in the country.” Pete Templeman – director/ screenwriter “Not Suitable for Children’; “Wanted”; “Bogan Pride”; “Five Bedrooms” \n“The course was inspiring and a lot of fun – the variety of people attracted to the course was an added bonus as we learned as much from each other as we did from the instructor!” Caro – actor \n“Annie’s knowledge\, experience and warm professionalism will teach you so much about the acting profession in a very short time\, with tips and techniques that only come from real life hands-on experience. PAC courses\, especially Screen Acting\, are a hell of a lot of fun\, with a great group of like-minded people.” Eddie Stowers \n\n\n\nBuy Ticket\n\n\n\n\n\n\n\n\n\n\n\n\nAbout the Creative Collective\n\n\n\nThe Creative Collective is A Pitter Pat Productions\,  IF Foundations & City of Karratha Joint Venture. \n\n\n\nWe aim to build community interest and skills in performance so facilitate accessible\, friendly workshops and masterclasses for City of Karratha. We also offer performance opportunities for interested participants (non-compulsory of course!) from time to time and encourage collaboration and sharing amongt the local Performing Arts community. \n\n\n\nDo you have skills or experience in performing arts? We invite local artists to share their skills through masterclasses\, workshops and projects\, get in touch to learn more by contacting info@pitterpatproductions.org.au \n\n\n\nLearn More…
URL:https://www.pitterpatproductions.org.au/events/acting-for-camera-creative-collective/
LOCATION:Red Earth Arts Precinct\, 27 Welcome Road\, Karratha\, WA\, 6714\, Australia
CATEGORIES:Creative Collective,Workshop
ATTACH;FMTTYPE=image/png:/wp-content/uploads/2020/12/Copy-of-Creative-Jam.png
ORGANIZER;CN="Pitter%20Pat%20Productions":MAILTO:info@pitterpatproductions.org.au
END:VEVENT
BEGIN:VEVENT
DTSTART;TZID=UTC:20210410T100000
DTEND;TZID=UTC:20210410T170000
DTSTAMP:20260425T140953
CREATED:20201225T022116Z
LAST-MODIFIED:20210207T092609Z
UID:17374-1618048800-1618074000@www.pitterpatproductions.org.au
SUMMARY:Acting & Directing For Screen
DESCRIPTION:Buy Ticket\n\n\n\nActing & Directing for Screen\nThe Creative Collective Presents: “Acting & Directing for Screen” Led by Casting Director and Acting Coach Annie Murtagh-Monks.\n \n\nThis practical weekend workshop is suitable for those aged 17 years and older.\nNo experience is needed to enrol\, however preference will be given to those with some past experience.\n \nThe weekend workshop will help participants who want to either a) act or b) direct for screen and discover ways to collaborate together.\nParticipants can enrol in either the acting stream or directing stream.\n \nThis workshop will run over two days on Saturday & Sunday\, April 10th & 11th.\nFrom 10am to 5:30pm at the Red Earth Arts Precinct\n \nCost is $50 for both days\, strictly limited places so enrol now.\n \nContact the Red Earth Arts Precinct for ticketing queries or info@pitterpatproductions.org.au for more information.\n\n \nFeedback from Previous Workshops\n“Annie Murtagh-Monks is absolutely one of the most talented and inspiring screen drama teachers in the country.” Pete Templeman – director/ screenwriter “Not Suitable for Children’; “Wanted”; “Bogan Pride”; “Five Bedrooms” \n“The course was inspiring and a lot of fun – the variety of people attracted to the course was an added bonus as we learned as much from each other as we did from the instructor!” Caro – actor \n“Annie’s knowledge\, experience and warm professionalism will teach you so much about the acting profession in a very short time\, with tips and techniques that only come from real life hands-on experience. PAC courses\, especially Screen Acting\, are a hell of a lot of fun\, with a great group of like-minded people.” Eddie Stowers \n\n\n\nBuy Ticket\n\n\n\n\n\n\n\n\n\n\n\n\nAbout the Creative Collective\n\n\n\nThe Creative Collective is A Pitter Pat Productions\,  IF Foundations & City of Karratha Joint Venture. \n\n\n\nWe aim to build community interest and skills in performance so facilitate accessible\, friendly workshops and masterclasses for City of Karratha. We also offer performance opportunities for interested participants (non-compulsory of course!) from time to time and encourage collaboration and sharing amongt the local Performing Arts community. \n\n\n\nDo you have skills or experience in performing arts? We invite local artists to share their skills through masterclasses\, workshops and projects\, get in touch to learn more by contacting info@pitterpatproductions.org.au \n\n\n\nLearn More…
URL:https://www.pitterpatproductions.org.au/events/acting-directing-for-screen/
LOCATION:Red Earth Arts Precinct\, 27 Welcome Road\, Karratha\, WA\, 6714\, Australia
CATEGORIES:Creative Collective,Workshop
ATTACH;FMTTYPE=image/png:/wp-content/uploads/2020/12/Copy-of-Creative-Jam-1.png
ORGANIZER;CN="Pitter%20Pat%20Productions":MAILTO:info@pitterpatproductions.org.au
END:VEVENT
BEGIN:VEVENT
DTSTART;TZID=UTC:20210411T100000
DTEND;TZID=UTC:20210411T170000
DTSTAMP:20260425T140953
CREATED:20201225T022310Z
LAST-MODIFIED:20210207T092653Z
UID:17377-1618135200-1618160400@www.pitterpatproductions.org.au
SUMMARY:Acting & Directing For Screen
DESCRIPTION:Buy Ticket\n\n\n\nActing & Directing for Screen\nThe Creative Collective Presents: “Acting & Directing for Screen” Led by Casting Director and Acting Coach Annie Murtagh-Monks.\n \n\nThis practical weekend workshop is suitable for those aged 17 years and older.\nNo experience is needed to enrol\, however preference will be given to those with some past experience.\n \nThe weekend workshop will help participants who want to either a) act or b) direct for screen and discover ways to collaborate together.\nParticipants can enrol in either the acting stream or directing stream.\n \nThis workshop will run over two days on Saturday & Sunday\, April 10th & 11th.\nFrom 10am to 5:30pm at the Red Earth Arts Precinct\n \nCost is $50 for both days\, strictly limited places so enrol now.\n \nContact the Red Earth Arts Precinct for ticketing queries or info@pitterpatproductions.org.au for more information.\n\n \nFeedback from Previous Workshops\n“Annie Murtagh-Monks is absolutely one of the most talented and inspiring screen drama teachers in the country.” Pete Templeman – director/ screenwriter “Not Suitable for Children’; “Wanted”; “Bogan Pride”; “Five Bedrooms” \n“The course was inspiring and a lot of fun – the variety of people attracted to the course was an added bonus as we learned as much from each other as we did from the instructor!” Caro – actor \n“Annie’s knowledge\, experience and warm professionalism will teach you so much about the acting profession in a very short time\, with tips and techniques that only come from real life hands-on experience. PAC courses\, especially Screen Acting\, are a hell of a lot of fun\, with a great group of like-minded people.” Eddie Stowers \n\n\n\nBuy Ticket\n\n\n\n\n\n\n\n\n\n\n\n\nAbout the Creative Collective\n\n\n\nThe Creative Collective is A Pitter Pat Productions\,  IF Foundations & City of Karratha Joint Venture. \n\n\n\nWe aim to build community interest and skills in performance so facilitate accessible\, friendly workshops and masterclasses for City of Karratha. We also offer performance opportunities for interested participants (non-compulsory of course!) from time to time and encourage collaboration and sharing amongt the local Performing Arts community. \n\n\n\nDo you have skills or experience in performing arts? We invite local artists to share their skills through masterclasses\, workshops and projects\, get in touch to learn more by contacting info@pitterpatproductions.org.au \n\n\n\nLearn More…
URL:https://www.pitterpatproductions.org.au/events/acting-directing-for-screen-2/
LOCATION:Red Earth Arts Precinct\, 27 Welcome Road\, Karratha\, WA\, 6714\, Australia
CATEGORIES:Creative Collective,Workshop
ATTACH;FMTTYPE=image/png:/wp-content/uploads/2020/12/Copy-of-Creative-Jam-1.png
ORGANIZER;CN="Pitter%20Pat%20Productions":MAILTO:info@pitterpatproductions.org.au
END:VEVENT
END:VCALENDAR